Workbook
Name Actions: Company_Year!$AF$4:$AF$33
Name Actions: [1]Company_Year!$AM$4:$AM$29
Name Factors: Company_Year!$P$17:$P$21
Name Factors: [1]Company_Year!$AF$24:$AF$27
Name SDGs: Company_Year!#REF!

Sheet Company_Year
C1: 1. ENTITY INFORMATION | G1: q | I1: 2. EMISSIONS SOURCES DATA | N1: q
B2: 1.1 Entity & Reporting Details | H2: 2.1 Indirect Emissions from Purchased Electricity | P2: Data to Update | AF2: Mitigation Factors
B3: Company/Entity | E3: Reporting Year | F3: 2025 | H3: Metered Electricity | K3: Unmetered Electricity (Generator Subscription) | Q3: Unit | R3: $/unit | S3: ton/unit | T3: kWh/u | U3: TJ/ kton | V3: tC /TJ | W3: tCH4 /TJ | X3: tN2O /TJ | Y3: tCO2 /ton | Z3: tCH4 /ton | AA3: tN2O /ton | AB3: kg CO₂/unit | AC3: kg CH₄/unit | AD3: kg N₂O/unit | AF3: Mitigation Actions | AG3: Capacity | AH3: CF | AI3: Saving Unit | AJ3: Saving on
B4: Address | I4: Consumption kWh/yr | J4: tCO₂eq. | L4: Amps | M4: Hours/year | N4: tCO₂eq. | P4: GWP | Q4: - | R4: - | AB4: 1 | AC4: 28 | AD4: 265 | AF4: Solar Photovoltaics | AG4: kWp | AH4: 1.55 | AI4: MWh | AJ4: Electricity
B5: Contact Person | E5: Position | H5: EDL | J5: =((I5*$AB$5)*$AB$4+(I5*$AC$5)*$AC$4+(I5*$AD$5)*$AD$4)/1000 -> 0 | K5: 1-Phase | N5: =L5*M5*220*0.8*10^-6*0.8*(AB6*AB4+AC6*AC4+AD6*AD4) -> 0 | P5: EDL | Q5: kWh | R5: 0.25 | T5: 1 | U5: - | V5: - | X5: - | Y5: - | Z5: - | AA5: - | AB5: 0.567225 | AC5: =AC6*$AB$5/$AB$6 -> 1.547132e-05 | AD5: =AD6*$AB$5/$AB$6 -> 4.641396e-06 | AF5: Solar Water Heating | AG5: liters | AH5: 0.0141 | AI5: MWh | AJ5: Water Heating
B6: E-mail Address | E6: Phone | H6: Gen Subscription | J6: =((I6*$AB$6)*$AB$4+(I6*$AC$6)*$AC$4+(I6*$AD$6)*$AD$4)/1000 -> 0 | K6: 3-Phase | N6: =L6*M6*380*1.73*0.8*10^-6*0.8*(AB6*AB4+AC6*AC4+AD6*AD4) -> 0 | P6: Generator Subscription | Q6: kWh | R6: 0.45 | S6: =S8/T8 -> 0.00022403482 | T6: 1 | U6: 43.33 | V6: 20.2 | W6: 0.002 | X6: 0.0006 | Y6: =IFERROR((0.99*U6*V6*44/12)/1000,"") -> 3.1772156 | Z6: =IFERROR(($U6*W6)/1000,"") -> 8.666e-05 | AA6: =IFERROR(($U6*X6)/1000,"") -> 2.5998e-05 | AB6: =IFERROR((Y6*1000)*$S6,"") -> 0.71180693 | AC6: =IFERROR((Z6*1000)*$S6,"") -> 1.9414858e-05 | AD6: =IFERROR((AA6*1000)*$S6,"") -> 5.8244573e-06 | AF6: Wind Energy | AG6: kWp | AH6: 1.2 | AI6: MWh | AJ6: Electricity
B7: Verifier | E7: Verifier Email | H7: Renewable Energy | J7: =IF(I7="","",0) | P7: Renewable Energy | Q7: kWh | R7: 0 | T7: 1 | U7: 0 | V7: 0 | W7: 0 | X7: 0 | Y7: =IFERROR((0.99*U7*V7*44/12)/1000,"") -> 0 | Z7: =IFERROR(($U7*W7)/1000,"") -> 0 | AA7: =IFERROR(($U7*X7)/1000,"") -> 0 | AB7: =IFERROR((Y7*1000)*$S7,"") -> 0 | AC7: =IFERROR((Z7*1000)*$S7,"") -> 0 | AD7: =IFERROR((AA7*1000)*$S7,"") -> 0 | AF7: Solar Pumping | AG7: hp | AH7: 2.21 | AI7: MWh | AJ7: Electricity
B8: I, the undersigned, acknowledge that all the information and data related to fuel and energy consumption presented in this report are accurate to the best of my knowledge. | H8: 2.2 Direct Emissions from Fuel Combustion | P8: Diesel Oil | Q8: lit | R8: =(1380000/89000)/20 -> 0.7752809 | S8: =0.83/1000 -> 0.00083 | T8: =37.085%*U8*S8/(0.0000036*1000) -> 3.7047812 | U8: 43.33 | V8: 20.2 | W8: 0.002 | X8: 0.0006 | Y8: =IFERROR((0.99*U8*V8*44/12)/1000,"") -> 3.1772156 | Z8: =IFERROR(($U8*W8)/1000,"") -> 8.666e-05 | AA8: =IFERROR(($U8*X8)/1000,"") -> 2.5998e-05 | AB8: =IFERROR((Y8*1000)*$S8,"") -> 2.6370889 | AC8: =IFERROR((Z8*1000)*$S8,"") -> 7.19278e-05 | AD8: =IFERROR((AA8*1000)*$S8,"") -> 2.157834e-05 | AF8: Solar Street Lighting | AG8: kW | AH8: 4.45 | AI8: MWh | AJ8: Electricity
H9: Emissions from Stationary Fuel Combustion | P9: Heavy Fuel Oil | Q9: lit | R9: 0.8 | S9: =0.9/1000 -> 0.0009 | T9: =40%*U9*S9/(0.0000036*1000) -> 4.019 | U9: 40.19 | V9: 21.1 | W9: 0.002 | X9: 0.0006 | Y9: =IFERROR((0.99*U9*V9*44/12)/1000,"") -> 3.0782727 | Z9: =IFERROR(($U9*W9)/1000,"") -> 8.038e-05 | AA9: =IFERROR(($U9*X9)/1000,"") -> 2.4114e-05 | AB9: =IFERROR((Y9*1000)*$S9,"") -> 2.7704454 | AC9: =IFERROR((Z9*1000)*$S9,"") -> 7.2342e-05 | AD9: =IFERROR((AA9*1000)*$S9,"") -> 2.17026e-05 | AF9: LED Lighting | AG9: kW | AH9: 0.62 | AI9: MWh | AJ9: Electricity
B10: Signature | E10: Date | J10: Diesel (liters) | K10: Heavy Fuel Oil (liters) | M10: Petcoke (ton.) | N10: tCO₂eq. | P10: Petroleum Coke | Q10: tonne | R10: 420 | S10: 1 | T10: =40%*U10*S10/(0.0000036*1000) -> 3611.1111 | U10: 32.5 | V10: 27 | W10: =10/1000 -> 0.01 | X10: =0.6/1000 -> 0.0006 | Y10: =IFERROR((0.99*U10*V10*44/12)/1000,"") -> 3.185325 | Z10: =IFERROR(($U10*W10)/1000,"") -> 0.000325 | AA10: =IFERROR(($U10*X10)/1000,"") -> 1.95e-05 | AB10: =IFERROR((Y10*1000)*$S10,"") -> 3185.325 | AC10: =IFERROR((Z10*1000)*$S10,"") -> 0.325 | AD10: =IFERROR((AA10*1000)*$S10,"") -> 0.0195 | AF10: HVAC Upgrade | AG10: ton | AH10: 0.52 | AI10: MWh | AJ10: Electricity | AK10: New Car | AM10: Gasoline Car
H11: Fuel for Electricity Generation | N11: =((J11*$AB$8+K11*$AB$9+M11*$AB$10)*$AB$4+(J11*$AC$8+K11*$AC$9+M11*$AC$10)*$AC$4+(J11*$AD$8+K11*$AD$9+M11*$AD$10)*$AD$4)/1000 -> 0 | P11: Butane/Propane | Q11: kg | R11: =(1115000/89000)/10 -> 1.252809 | S11: =1/1000 -> 0.001 | T11: =60%*U11*S11/(0.0000036*1000) -> 7.885 | U11: 47.31 | V11: 17.2 | W11: 0.005 | X11: 0.0001 | Y11: =IFERROR((0.99*U11*V11*44/12)/1000,"") -> 2.9538472 | Z11: =IFERROR(($U11*W11)/1000,"") -> 0.00023655 | AA11: =IFERROR(($U11*X11)/1000,"") -> 4.731e-06 | AB11: =IFERROR(Y11*1000*$S11,"") -> 2.9538472 | AC11: =IFERROR(Z11*1000*$S11,"") -> 0.00023655 | AD11: =IFERROR(AA11*1000*$S11,"") -> 4.731e-06 | AF11: VSD/VFD | AG11: hp | AH11: 0.25 | AI11: MWh | AJ11: Electricity | AK11: l/km | AL11: kg CO2eq/km | AM11: l/km | AN11: kg CO2eq/km
H12: Fuel for Water Heating Boilers | N12: =((J12*$AB$8+K12*$AB$9+M12*$AB$10)*$AB$4+(J12*$AC$8+K12*$AC$9+M12*$AC$10)*$AC$4+(J12*$AD$8+K12*$AD$9+M12*$AD$10)*$AD$4)/1000 -> 0 | P12: Gasoline | Q12: lit | R12: =(1466000/89000)/20 -> 0.82359551 | S12: =0.74/1000 -> 0.00074 | T12: - | U12: 44.8 | V12: 18.9 | W12: 0.02 | X12: 0.0006 | Y12: =IFERROR((0.99*U12*V12*44/12)/1000,"") -> 3.0735936 | Z12: =IFERROR(($U12*W12)/1000,"") -> 0.000896 | AA12: =IFERROR(($U12*X12)/1000,"") -> 2.688e-05 | AB12: =IFERROR(Y12*$S12,"") -> 0.0022744593 | AC12: =IFERROR(Z12*$S12,"") -> 6.6304e-07 | AD12: =IFERROR(AA12*$S12,"") -> 1.98912e-08 | AF12: Gasoline Car to EV | AG12: km/year | AH12: =(AN12-AL12)/1000 -> 8.4634955e-05 | AI12: tCO₂eq | AJ12: Transport | AK12: 0 | AL12: =(0.129/0.663)*IF($C$25>0,$C$25,$AB$5) -> 0.11036505 | AM12: 0.09 | AN12: 0.195
B13: 1.2 Benchmarking Factors | OPTIONAL | H13: Fuel for Space Heating (chauffage) | N13: =((J13*$AB$8+K13*$AB$9+M13*$AB$10)*$AB$4+(J13*$AC$8+K13*$AC$9+M13*$AC$10)*$AC$4+(J13*$AD$8+K13*$AD$9+M13*$AD$10)*$AD$4)/1000 -> 0 | P13: Diesel Fuel | Q13: lit | R13: =(1380000/89000)/20 -> 0.7752809 | S13: =0.83/1000 -> 0.00083 | T13: - | U13: 43.33 | V13: 20.2 | W13: 0.005 | X13: 0.0006 | Y13: =IFERROR((0.99*U13*V13*44/12)/1000,"") -> 3.1772156 | Z13: =IFERROR(($U13*W13)/1000,"") -> 0.00021665 | AA13: =IFERROR(($U13*X13)/1000,"") -> 2.5998e-05 | AB13: =IFERROR(Y13*$S13,"") -> 0.0026370889 | AC13: =IFERROR(Z13*$S13,"") -> 1.798195e-07 | AD13: =IFERROR(AA13*$S13,"") -> 2.157834e-08 | AF13: Gasoline Car to Hybrid | AG13: km/year | AH13: =(AN13-AL13)/1000 -> 9.8323643e-05 | AI13: tCO₂eq | AJ13: Transport | AK13: 0.05 | AL13: =(0.113/0.663)*IF($C$25>0,$C$25,$AB$5) -> 0.096676357 | AM13: 0.09 | AN13: 0.195
C14: =IF($F$3="","Previous Year",$F$3-1) -> 2024 | F14: =IF($F$3="","Previous Year",$F$3-1) -> 2024 | G14: =IF($F$3="","Reporting Year",$F$3) -> 2025 | H14: Fuel for Process Applications | N14: =((J14*$AB$8+K14*$AB$9+M14*$AB$10)*$AB$4+(J14*$AC$8+K14*$AC$9+M14*$AC$10)*$AC$4+(J14*$AD$8+K14*$AD$9+M14*$AD$10)*$AD$4)/1000 -> 0
B15: Emitted tCO₂eq. | D15: Total Employees | H15: Emissions from Cooking | K15: Emissions from Transport | P15: FACTORS (Used for Savings) | X15: Data for Figures
B16: Mitigated tCO₂eq. | D16: Total Area (m²) | H16: Cooking Gas Butane/Propane (kg) | J16: tCO₂eq. | K16: Gasoline (liters) | M16: Diesel (liters) | N16: tCO₂eq. | P16: Combined Emission Factor | X16: Emission Breakdown | Z16: kWh | AA16: tCO₂eq | AB16: tCO₂ | AC16: tCH₄ | AD16: tN₂O
B17: Transport tCO₂eq. | D17: Travel Distance (km) | J17: =(H17*$AB$11*$AB$4+H17*$AC$11*$AC$4+H17*$AD$11*$AD$4)/1000 -> 0 | N17: =((K17*$AB$12+M17*$AB$13)*$AB$4+(K17*$AC$12+M17*$AC$13)*$AC$4+(K17*$AD$12+M17*$AD$13)*$AD$4) -> 0 | Q17: Unit | R17: $/ | S17: tCO₂ eq/ | T17: tCO₂ | U17: tCH₄ | V17: tN₂O | Y17: Purchased Electricity | Z17: =SUM(Z22:Z25) -> 0 | AA17: =SUM(AA22:AA25) -> 0 | AB17: =SUM(AB22:AB25) -> 0 | AC17: =SUM(AC22:AC25) -> 0 | AD17: =SUM(AD22:AD25) -> 0
P18: Electricity | Q18: MWh | R18: =1000*(R5*I5+R6*I6+R8*J11+R9*K11+R10*M11)/(I5+I6+J11*T8+K11*T9+M11*T10) -> #DIV/0! | S18: =1000*SUM(AA22:AA28)/SUM(Z22:Z28) -> #DIV/0! | T18: =1000*SUM(AB22:AB28)/SUM(Z22:Z28) -> #DIV/0! | U18: =1000*SUM(AC22:AC28)/SUM(Z22:Z28) -> #DIV/0! | V18: =1000*SUM(AD22:AD28)/SUM(Z22:Z28) -> #DIV/0! | W18: =(T18*$AB$4+U18*$AC$4+V18*$AD$4)-S18 -> #DIV/0! | Y18: Energy Production (excl Cooking) | Z18: =SUM(Z26:Z34,Z39) -> 0 | AA18: =SUM(AA26:AA34,AA39) -> 0 | AB18: =SUM(AB26:AB34,AB39) -> 0 | AC18: =SUM(AC26:AC34,AC39) -> 0 | AD18: =SUM(AD26:AD34,AD39) -> 0
B19: EMISSIONS RESULTS | N19: q | P19: Water Heating | Q19: MWh | R19: =1000*IFERROR((SUM(J12:J13)*R8+SUM(K12:L13)*R9+SUM(M12:M13)*R10)/((SUM(J12:J13)*T8+SUM(K12:L13)*T9+SUM(M12:M13)*T10)),R18) -> #DIV/0! | S19: =IFERROR(1000*(N12+N13)/((J12+J13)*T8+(K12+K13)*T9+(M12+M13)*T10),C26) -> - | T19: =IFERROR((SUM(J12:J13)*AB8+SUM(K12:L13)*AB9+SUM(M12:M13)*AB10)/(SUM(J12:J13)*T8+SUM(K12:L13)*T9+SUM(M12:M13)*T10),"") | U19: =IFERROR((SUM(J12:J13)*AC8+SUM(K12:L13)*AC9+SUM(M12:M13)*AC10)/(SUM(J12:J13)*T8+SUM(K12:L13)*T9+SUM(M12:M13)*T10),"") | V19: =IFERROR((SUM(J12:J13)*AD8+SUM(K12:L13)*AD9+SUM(M12:M13)*AD10)/(SUM(J12:J13)*T8+SUM(K12:L13)*T9+SUM(M12:M13)*T10),"") | W19: =(T19*$AB$4+U19*$AC$4+V19*$AD$4)-S19 -> #VALUE! | Y19: Transport | AA19: =AA36 -> 0 | AB19: =SUM(AB36:AB37) -> 0 | AC19: =SUM(AC36:AC37) -> 0 | AD19: =SUM(AD36:AD37) -> 0
B20: ="GHG Report Summary for the Year "&F3 -> GHG Report Summary for the Year 2025 | K20: ="tonnes CO₂eq Comparison"&IFERROR(IF(M21+N21=0,"",": "&M21&" v/s "&N21),"") -> tonnes CO₂eq Comparison: 2025 v/s 2024 | P20: Transport | Q20: liters | R20: =IFERROR((K17*R12+M17*R13)/(K17+M17),R12) -> 0.82359551 | T20: =IFERROR(H15*AB9/(H15*T9),"") | U20: =IFERROR(H15*AC9/(H15*T9),"") | V20: =IFERROR(H15*AD9/(H15*T9),"") | AA20: =SUM(AA17:AA19) -> 0
C21: Emitted | D21: Mitigated | M21: =IF(F3="","Reported Year",F3) -> 2025 | N21: =IF(F3="","Previous Year",F3-1) -> 2024 | P21: Process | Q21: MWh | R21: =IFERROR(1000*((J14*R8+K14*R9+M14*R10)/(J14*T8+K14*T9+M14*T10)),R19) -> #DIV/0! | S21: =IFERROR(1000*N14/(J14*T8+K14*T9+M14*T10),C26) -> - | T21: =IFERROR((J14*AB8+K14*AB9+M14*AB10)/(J14*T8+K14*T9+M14*T10),"") | U21: =IFERROR((J14*AC8+K14*AC9+M14*AC10)/(J14*T8+K14*T9+M14*T10),"") | V21: =IFERROR((J14*AD8+K14*AD9+M14*AD10)/(J14*T8+K14*T9+M14*T10),"") | W21: =(T21*$AB$4+U21*$AC$4+V21*$AD$4)-S21 -> #VALUE! | Y21: USD
B22: Tonnes CO₂ | C22: =AB38 -> 0 | D22: =IFERROR(SUM(P30:P1006),"") -> 0 | F22: =X16 -> Emission Breakdown | K22: Transport Emissions/km | M22: =IFERROR(IF(OR(N17="",G17=""),"N/A",N17/(G17)),"N/A") -> N/A | N22: =IFERROR(IF(OR(C17="",F17=""),"N/A",C17/(F17)),"N/A") -> N/A | P22: Cooking | Q22: MWh | R22: =IFERROR(1000*H17*R11/(H17*T11),R18) -> #DIV/0! | S22: =IFERROR(J17/((H17*T11/1000)),C26) -> - | T22: =IFERROR(H17*AB11/(H17*T11),"") | U22: =IFERROR(H17*AC11/(H17*T11),"") | V22: =IFERROR(H17*AD11/(H17*T11),"") | W22: =(T22*$AB$4+U22*$AC$4+V22*$AD$4)-S22 -> #VALUE! | X22: EDL | Y22: =I5*R5 -> 0 | Z22: =I5 -> 0 | AA22: =J5 -> 0 | AB22: =$Z22*AB5/1000 -> 0 | AC22: =$Z22*AC5/1000 -> 0 | AD22: =$Z22*AD5/1000 -> 0
B23: Tonnes CH₄ | C23: =AC38 -> 0 | D23: =IFERROR(SUM(Q30:Q1006),"") -> 0 | F23: =Y17 -> Purchased Electricity | G23: =AA17/$AA$20 -> #DIV/0! | K23: Emitted/m2 | M23: =IFERROR(IF(OR(C25="",G16=""),"N/A",C25/(G16)),"N/A") -> N/A | N23: =IFERROR(IF(OR(C15="",F16=""),"N/A",C15/(F16)),"N/A") -> N/A | X23: Gen Subscription | Y23: =I6*R6 -> 0 | Z23: =I6 -> 0 | AA23: =J6 -> 0 | AB23: =$Z23*AB6/1000 -> 0 | AC23: =$Z23*AC6/1000 -> 0 | AD23: =$Z23*AD6/1000 -> 0
B24: Tonnes N₂O | C24: =AD38 -> 0 | D24: =IFERROR(SUM(R30:R1006),"") -> 0 | F24: =Y18 -> Energy Production (excl Cooking) | G24: =AA18/$AA$20 -> #DIV/0! | K24: Mitigated/m2 | M24: =IFERROR(IF(OR(D25="",G16=""),"N/A",D25/(G16)),"N/A") -> N/A | N24: =IFERROR(IF(OR(C16="",F16=""),"N/A",C16/(F16)),"N/A") -> N/A | X24: 1-Phase | Y24: =Z24*R6 -> 0 | Z24: =L5*M5*220*0.8*10^-3*0.8 -> 0 | AA24: =N5 -> 0 | AB24: =$Z24*AB6/1000 -> 0 | AC24: =$Z24*AC6/1000 -> 0 | AD24: =$Z24*AD6/1000 -> 0
B25: Total tonnes CO₂eq. | C25: =C22*$AB$4+C23*$AC$4+C24*$AD$4 -> 0 | D25: =D22*$AB$4+D23*$AC$4+D24*$AD$4 -> 0 | F25: =Y19 -> Transport | G25: =AA19/$AA$20 -> #DIV/0! | K25: Emitted/employee | M25: =IFERROR(IF(OR(C25="",G15=""),"N/A",C25/(G15)),"N/A") -> N/A | N25: =IFERROR(IF(OR(C15="",F15=""),"N/A",C15/(F15)),"N/A") -> N/A | X25: 3-Phase | Y25: =Z25*R6 -> 0 | Z25: =L6*M6*380*1.73*0.8*10^-3*0.8 -> 0 | AA25: =N6 -> 0 | AB25: =$Z25*AB6/1000 -> 0 | AC25: =$Z25*AC6/1000 -> 0 | AD25: =$Z25*AD6/1000 -> 0
B26: Energy kgCO₂eq/kWh | C26: =IF(IFERROR(1000*(SUM(J5:J7,N5:N6,N11:N14)/SUM(Z17:Z19)),"-")<0,"",IFERROR(1000*(C25-N17-J17)/SUM(Z17:Z19),"-")) -> - | K26: Mitigated/employee | M26: =IFERROR(IF(OR(D25="",G15=""),"N/A",D25/(G15)),"N/A") -> N/A | N26: =IFERROR(IF(OR(C16="",F15=""),"N/A",C16/(F15)),"N/A") -> N/A | X26: Diesel Electricity | Y26: =J11*R8 -> 0 | Z26: =J11*T8 -> 0 | AA26: =N11 -> 0 | AB26: =$J11*AB8/1000 -> 0 | AC26: =$J11*AC8/1000 -> 0 | AD26: =$J11*AD8/1000 -> 0
X27: HFO Electricity | Y27: =K11*R9 -> 0 | Z27: =K11*T9 -> 0 | AB27: =$K11*AB9/1000 -> 0 | AC27: =$K11*AC9/1000 -> 0 | AD27: =$K11*AD9/1000 -> 0
B28: 3. MITIGATION ACTIONS IMPLEMENTED (WITHIN THE FACILITY) | N28: q | X28: Petcoke Electricity | Y28: =M11*R10 -> 0 | Z28: =M11*T10 -> 0 | AB28: =$M11*AB10/1000 -> 0 | AC28: =$M11*AC10/1000 -> 0 | AD28: =$M11*AD10/1000 -> 0
B29: Mitigation Action | C29: Description of the Measure | E29: Saving On | F29: Capacity | G29: Unit | H29: Budget (USD) | I29: Funded by | J29: Energy Savings | K29: Energy Unit | L29: Cost Saving | M29: Payback (years) | N29: tCO₂eq Saved | P29: tCO₂ | Q29: tCH₄ | R29: tN₂O | X29: Diesel WH | Y29: =SUM(J12:J13)*R8 -> 0 | Z29: =SUM(J12:J13)*T8 -> 0 | AA29: =N12+N13 -> 0 | AB29: =SUM($J12:$J13)*AB8/1000 -> 0 | AC29: =SUM($J12:$J13)*AC8/1000 -> 0 | AD29: =SUM($J12:$J13)*AD8/1000 -> 0
B30: Solar Photovoltaics | E30: =IFERROR(VLOOKUP(B30,$AF$1:$AJ$33,5,FALSE),"") -> Electricity | G30: =IFERROR(VLOOKUP(B30,$AF$1:$AJ$33,2,FALSE),"") -> kWp | J30: =IFERROR(IF(E30="Transport","N/A",VLOOKUP(B30,$AF$1:$AJ$33,3,FALSE)*F30),"") -> 0 | K30: =IFERROR(IF(E30="Transport","N/A",VLOOKUP(B30,$AF$1:$AJ$33,4,FALSE)),IFERROR(VLOOKUP(E30,$P$17:$V$23,2,FALSE),"")) -> MWh | L30: =IFERROR(IF(E30="Transport","N/A",J30*VLOOKUP(E30,$P$17:$V$23,3,FALSE)),"") | M30: =IFERROR(IF(J30="N/A","N/A",H30/L30),"") | N30: =IFERROR(IF(E30="Transport",VLOOKUP(B30,$AF$1:$AJ$33,3,FALSE)*F30,$J30*VLOOKUP($E30,$P$17:$V$23,4,FALSE)),"") | P30: =IFERROR(IF(E30="Transport",N30*T$18/$S$18,$J30*VLOOKUP($E30,$P$17:$V$23,5,FALSE)),"") | Q30: =IFERROR(IF(E30="Transport",N30*U$18/$S$18,$J30*VLOOKUP($E30,$P$17:$V$23,6,FALSE)),"") | R30: =IFERROR(IF(E30="Transport",N30*V$18/$S$18,$J30*VLOOKUP($E30,$P$17:$V$23,7,FALSE)),"") | X30: HFO WH | Y30: =SUM(K12:L13)*R9 -> 0 | Z30: =SUM(K12:L13)*T9 -> 0 | AB30: =SUM($K12:$L13)*AB9/1000 -> 0 | AC30: =SUM($K12:$L13)*AC9/1000 -> 0 | AD30: =SUM($K12:$L13)*AD9/1000 -> 0
B31: Solar Water Heating | E31: =IFERROR(VLOOKUP(B31,$AF$1:$AJ$33,5,FALSE),"") -> Water Heating | G31: =IFERROR(VLOOKUP(B31,$AF$1:$AJ$33,2,FALSE),"") -> liters | J31: =IFERROR(IF(E31="Transport","N/A",VLOOKUP(B31,$AF$1:$AJ$33,3,FALSE)*F31),"") -> 0 | K31: =IFERROR(IF(E31="Transport","N/A",VLOOKUP(B31,$AF$1:$AJ$33,4,FALSE)),IFERROR(VLOOKUP(E31,$P$17:$V$23,2,FALSE),"")) -> MWh | L31: =IFERROR(IF(E31="Transport","N/A",J31*VLOOKUP(E31,$P$17:$V$23,3,FALSE)),"") | M31: =IFERROR(IF(J31="N/A","N/A",H31/L31),"") | N31: =IFERROR(IF(E31="Transport",VLOOKUP(B31,$AF$1:$AJ$33,3,FALSE)*F31,$J31*VLOOKUP($E31,$P$17:$V$23,4,FALSE)),"") | P31: =IFERROR(IF(E31="Transport",N31*T$18/$S$18,$J31*VLOOKUP($E31,$P$17:$V$23,5,FALSE)),"") | Q31: =IFERROR(IF(E31="Transport",N31*U$18/$S$18,$J31*VLOOKUP($E31,$P$17:$V$23,6,FALSE)),"") | R31: =IFERROR(IF(E31="Transport",N31*V$18/$S$18,$J31*VLOOKUP($E31,$P$17:$V$23,7,FALSE)),"") | X31: Petcoke WH | Y31: =SUM(M12:M13)*R10 -> 0 | Z31: =SUM(M12:M13)*T10 -> 0 | AB31: =SUM($M12:$M13)*AB10/1000 -> 0 | AC31: =SUM($M12:$M13)*AC10/1000 -> 0 | AD31: =SUM($M12:$M13)*AD10/1000 -> 0
B32: Wind Energy | E32: =IFERROR(VLOOKUP(B32,$AF$1:$AJ$33,5,FALSE),"") -> Electricity | G32: =IFERROR(VLOOKUP(B32,$AF$1:$AJ$33,2,FALSE),"") -> kWp | J32: =IFERROR(IF(E32="Transport","N/A",VLOOKUP(B32,$AF$1:$AJ$33,3,FALSE)*F32),"") -> 0 | K32: =IFERROR(IF(E32="Transport","N/A",VLOOKUP(B32,$AF$1:$AJ$33,4,FALSE)),IFERROR(VLOOKUP(E32,$P$17:$V$23,2,FALSE),"")) -> MWh | L32: =IFERROR(IF(E32="Transport","N/A",J32*VLOOKUP(E32,$P$17:$V$23,3,FALSE)),"") | M32: =IFERROR(IF(J32="N/A","N/A",H32/L32),"") | N32: =IFERROR(IF(E32="Transport",VLOOKUP(B32,$AF$1:$AJ$33,3,FALSE)*F32,$J32*VLOOKUP($E32,$P$17:$V$23,4,FALSE)),"") | P32: =IFERROR(IF(E32="Transport",N32*T$18/$S$18,$J32*VLOOKUP($E32,$P$17:$V$23,5,FALSE)),"") | Q32: =IFERROR(IF(E32="Transport",N32*U$18/$S$18,$J32*VLOOKUP($E32,$P$17:$V$23,6,FALSE)),"") | R32: =IFERROR(IF(E32="Transport",N32*V$18/$S$18,$J32*VLOOKUP($E32,$P$17:$V$23,7,FALSE)),"") | X32: Diesel Process | Y32: =J14*R8 -> 0 | Z32: =J14*T8 -> 0 | AA32: =N14 -> 0 | AB32: =$J14*AB8/1000 -> 0 | AC32: =$J14*AC8/1000 -> 0 | AD32: =$J14*AD8/1000 -> 0
B33: Solar Pumping | E33: =IFERROR(VLOOKUP(B33,$AF$1:$AJ$33,5,FALSE),"") -> Electricity | G33: =IFERROR(VLOOKUP(B33,$AF$1:$AJ$33,2,FALSE),"") -> hp | J33: =IFERROR(IF(E33="Transport","N/A",VLOOKUP(B33,$AF$1:$AJ$33,3,FALSE)*F33),"") -> 0 | K33: =IFERROR(IF(E33="Transport","N/A",VLOOKUP(B33,$AF$1:$AJ$33,4,FALSE)),IFERROR(VLOOKUP(E33,$P$17:$V$23,2,FALSE),"")) -> MWh | L33: =IFERROR(IF(E33="Transport","N/A",J33*VLOOKUP(E33,$P$17:$V$23,3,FALSE)),"") | M33: =IFERROR(IF(J33="N/A","N/A",H33/L33),"") | N33: =IFERROR(IF(E33="Transport",VLOOKUP(B33,$AF$1:$AJ$33,3,FALSE)*F33,$J33*VLOOKUP($E33,$P$17:$V$23,4,FALSE)),"") | P33: =IFERROR(IF(E33="Transport",N33*T$18/$S$18,$J33*VLOOKUP($E33,$P$17:$V$23,5,FALSE)),"") | Q33: =IFERROR(IF(E33="Transport",N33*U$18/$S$18,$J33*VLOOKUP($E33,$P$17:$V$23,6,FALSE)),"") | R33: =IFERROR(IF(E33="Transport",N33*V$18/$S$18,$J33*VLOOKUP($E33,$P$17:$V$23,7,FALSE)),"") | X33: HFO Process | Y33: =K14*R9 -> 0 | Z33: =K14*T9 -> 0 | AB33: =$K14*AB9/1000 -> 0 | AC33: =$K14*AC9/1000 -> 0 | AD33: =$K14*AD9/1000 -> 0
B34: LED Lighting | E34: =IFERROR(VLOOKUP(B34,$AF$1:$AJ$33,5,FALSE),"") -> Electricity | G34: =IFERROR(VLOOKUP(B34,$AF$1:$AJ$33,2,FALSE),"") -> kW | J34: =IFERROR(IF(E34="Transport","N/A",VLOOKUP(B34,$AF$1:$AJ$33,3,FALSE)*F34),"") -> 0 | K34: =IFERROR(IF(E34="Transport","N/A",VLOOKUP(B34,$AF$1:$AJ$33,4,FALSE)),IFERROR(VLOOKUP(E34,$P$17:$V$23,2,FALSE),"")) -> MWh | L34: =IFERROR(IF(E34="Transport","N/A",J34*VLOOKUP(E34,$P$17:$V$23,3,FALSE)),"") | M34: =IFERROR(IF(J34="N/A","N/A",H34/L34),"") | N34: =IFERROR(IF(E34="Transport",VLOOKUP(B34,$AF$1:$AJ$33,3,FALSE)*F34,$J34*VLOOKUP($E34,$P$17:$V$23,4,FALSE)),"") | P34: =IFERROR(IF(E34="Transport",N34*T$18/$S$18,$J34*VLOOKUP($E34,$P$17:$V$23,5,FALSE)),"") | Q34: =IFERROR(IF(E34="Transport",N34*U$18/$S$18,$J34*VLOOKUP($E34,$P$17:$V$23,6,FALSE)),"") | R34: =IFERROR(IF(E34="Transport",N34*V$18/$S$18,$J34*VLOOKUP($E34,$P$17:$V$23,7,FALSE)),"") | X34: Petcoke Process | Y34: =M14*R10 -> 0 | Z34: =M14*T10 -> 0 | AB34: =$M14*AB10/1000 -> 0 | AC34: =$M14*AC10/1000 -> 0 | AD34: =$M14*AD10/1000 -> 0
B35: HVAC Upgrade | E35: =IFERROR(VLOOKUP(B35,$AF$1:$AJ$33,5,FALSE),"") -> Electricity | G35: =IFERROR(VLOOKUP(B35,$AF$1:$AJ$33,2,FALSE),"") -> ton | J35: =IFERROR(IF(E35="Transport","N/A",VLOOKUP(B35,$AF$1:$AJ$33,3,FALSE)*F35),"") -> 0 | K35: =IFERROR(IF(E35="Transport","N/A",VLOOKUP(B35,$AF$1:$AJ$33,4,FALSE)),IFERROR(VLOOKUP(E35,$P$17:$V$23,2,FALSE),"")) -> MWh | L35: =IFERROR(IF(E35="Transport","N/A",J35*VLOOKUP(E35,$P$17:$V$23,3,FALSE)),"") | M35: =IFERROR(IF(J35="N/A","N/A",H35/L35),"") | N35: =IFERROR(IF(E35="Transport",VLOOKUP(B35,$AF$1:$AJ$33,3,FALSE)*F35,$J35*VLOOKUP($E35,$P$17:$V$23,4,FALSE)),"") | P35: =IFERROR(IF(E35="Transport",N35*T$18/$S$18,$J35*VLOOKUP($E35,$P$17:$V$23,5,FALSE)),"") | Q35: =IFERROR(IF(E35="Transport",N35*U$18/$S$18,$J35*VLOOKUP($E35,$P$17:$V$23,6,FALSE)),"") | R35: =IFERROR(IF(E35="Transport",N35*V$18/$S$18,$J35*VLOOKUP($E35,$P$17:$V$23,7,FALSE)),"") | X35: Cooking | Y35: =H17*R11 -> 0 | Z35: =H17*T11 -> 0 | AA35: =J17 -> 0 | AB35: =$H17*AB11/1000 -> 0 | AC35: =$H17*AC11/1000 -> 0 | AD35: =$H17*AD11/1000 -> 0
B36: VSD/VFD | E36: =IFERROR(VLOOKUP(B36,$AF$1:$AJ$33,5,FALSE),"") -> Electricity | G36: =IFERROR(VLOOKUP(B36,$AF$1:$AJ$33,2,FALSE),"") -> hp | J36: =IFERROR(IF(E36="Transport","N/A",VLOOKUP(B36,$AF$1:$AJ$33,3,FALSE)*F36),"") -> 0 | K36: =IFERROR(IF(E36="Transport","N/A",VLOOKUP(B36,$AF$1:$AJ$33,4,FALSE)),IFERROR(VLOOKUP(E36,$P$17:$V$23,2,FALSE),"")) -> MWh | L36: =IFERROR(IF(E36="Transport","N/A",J36*VLOOKUP(E36,$P$17:$V$23,3,FALSE)),"") | M36: =IFERROR(IF(J36="N/A","N/A",H36/L36),"") | N36: =IFERROR(IF(E36="Transport",VLOOKUP(B36,$AF$1:$AJ$33,3,FALSE)*F36,$J36*VLOOKUP($E36,$P$17:$V$23,4,FALSE)),"") | P36: =IFERROR(IF(E36="Transport",N36*T$18/$S$18,$J36*VLOOKUP($E36,$P$17:$V$23,5,FALSE)),"") | Q36: =IFERROR(IF(E36="Transport",N36*U$18/$S$18,$J36*VLOOKUP($E36,$P$17:$V$23,6,FALSE)),"") | R36: =IFERROR(IF(E36="Transport",N36*V$18/$S$18,$J36*VLOOKUP($E36,$P$17:$V$23,7,FALSE)),"") | X36: =K16 -> Gasoline (liters) | Y36: =K17*R12 -> 0 | AA36: =N17 -> 0 | AB36: =$K17*AB12 -> 0 | AC36: =$K17*AC12 -> 0 | AD36: =$K17*AD12 -> 0
B37: Gasoline Car to EV | E37: =IFERROR(VLOOKUP(B37,$AF$1:$AJ$33,5,FALSE),"") -> Transport | G37: =IFERROR(VLOOKUP(B37,$AF$1:$AJ$33,2,FALSE),"") -> km/year | J37: =IFERROR(IF(E37="Transport","N/A",VLOOKUP(B37,$AF$1:$AJ$33,3,FALSE)*F37),"") -> N/A | K37: =IFERROR(IF(E37="Transport","N/A",VLOOKUP(B37,$AF$1:$AJ$33,4,FALSE)),IFERROR(VLOOKUP(E37,$P$17:$V$23,2,FALSE),"")) -> N/A | L37: =IFERROR(IF(E37="Transport","N/A",J37*VLOOKUP(E37,$P$17:$V$23,3,FALSE)),"") -> N/A | M37: =IFERROR(IF(J37="N/A","N/A",H37/L37),"") -> N/A | N37: =IFERROR(IF(E37="Transport",VLOOKUP(B37,$AF$1:$AJ$33,3,FALSE)*F37,$J37*VLOOKUP($E37,$P$17:$V$23,4,FALSE)),"") -> 0 | P37: =IFERROR(IF(E37="Transport",N37*T$18/$S$18,$J37*VLOOKUP($E37,$P$17:$V$23,5,FALSE)),"") | Q37: =IFERROR(IF(E37="Transport",N37*U$18/$S$18,$J37*VLOOKUP($E37,$P$17:$V$23,6,FALSE)),"") | R37: =IFERROR(IF(E37="Transport",N37*V$18/$S$18,$J37*VLOOKUP($E37,$P$17:$V$23,7,FALSE)),"") | X37: =M16 -> Diesel (liters) | Y37: =M17*R13 -> 0 | AB37: =$M17*AB13 -> 0 | AC37: =$M17*AC13 -> 0 | AD37: =$M17*AD13 -> 0
B38: Gasoline Car to Hybrid | E38: Transport | G38: =IFERROR(VLOOKUP(B38,$AF$1:$AJ$33,2,FALSE),"") -> km/year | J38: =IFERROR(IF(E38="Transport","N/A",VLOOKUP(B38,$AF$1:$AJ$33,3,FALSE)*F38),"") -> N/A | K38: =IFERROR(IF(E38="Transport","N/A",VLOOKUP(B38,$AF$1:$AJ$33,4,FALSE)),IFERROR(VLOOKUP(E38,$P$17:$V$23,2,FALSE),"")) -> N/A | L38: =IFERROR(IF(E38="Transport","N/A",J38*VLOOKUP(E38,$P$17:$V$23,3,FALSE)),"") -> N/A | M38: =IFERROR(IF(J38="N/A","N/A",H38/L38),"") -> N/A | N38: =IFERROR(IF(E38="Transport",VLOOKUP(B38,$AF$1:$AJ$33,3,FALSE)*F38,$J38*VLOOKUP($E38,$P$17:$V$23,4,FALSE)),"") -> 0 | P38: =IFERROR(IF(E38="Transport",N38*T$18/$S$18,$J38*VLOOKUP($E38,$P$17:$V$23,5,FALSE)),"") | Q38: =IFERROR(IF(E38="Transport",N38*U$18/$S$18,$J38*VLOOKUP($E38,$P$17:$V$23,6,FALSE)),"") | R38: =IFERROR(IF(E38="Transport",N38*V$18/$S$18,$J38*VLOOKUP($E38,$P$17:$V$23,7,FALSE)),"") | X38: Total | AA38: =SUM(AA22:AA37) -> 0 | AB38: =SUM(AB22:AB37) -> 0 | AC38: =SUM(AC22:AC37) -> 0 | AD38: =SUM(AD22:AD37) -> 0
E39: =IFERROR(VLOOKUP(B39,$AF$1:$AJ$33,5,FALSE),"") | G39: =IFERROR(VLOOKUP(B39,$AF$1:$AJ$33,2,FALSE),"") | J39: =IFERROR(IF(E39="Transport","N/A",VLOOKUP(B39,$AF$1:$AJ$33,3,FALSE)*F39),"") | K39: =IFERROR(IF(E39="Transport","N/A",VLOOKUP(B39,$AF$1:$AJ$33,4,FALSE)),IFERROR(VLOOKUP(E39,$P$17:$V$23,2,FALSE),"")) | L39: =IFERROR(IF(E39="Transport","N/A",J39*VLOOKUP(E39,$P$17:$V$23,3,FALSE)),"") | M39: =IFERROR(IF(J39="N/A","N/A",H39/L39),"") | N39: =IFERROR(IF(E39="Transport",VLOOKUP(B39,$AF$1:$AJ$33,3,FALSE)*F39,$J39*VLOOKUP($E39,$P$17:$V$23,4,FALSE)),"") | P39: =IFERROR(IF(E39="Transport",N39*T$18/$S$18,$J39*VLOOKUP($E39,$P$17:$V$23,5,FALSE)),"") | Q39: =IFERROR(IF(E39="Transport",N39*U$18/$S$18,$J39*VLOOKUP($E39,$P$17:$V$23,6,FALSE)),"") | R39: =IFERROR(IF(E39="Transport",N39*V$18/$S$18,$J39*VLOOKUP($E39,$P$17:$V$23,7,FALSE)),"") | X39: Renewable Energy | Y39: 0 | Z39: =I7 -> 0 | AA39: 0 | AB39: 0 | AC39: 0 | AD39: =SUM(AD23:AD38) -> 0
E40: =IFERROR(VLOOKUP(B40,$AF$1:$AJ$33,5,FALSE),"") | G40: =IFERROR(VLOOKUP(B40,$AF$1:$AJ$33,2,FALSE),"") | K40: =IFERROR(IF(E40="Transport","N/A",VLOOKUP(B40,$AF$1:$AJ$33,4,FALSE)),IFERROR(VLOOKUP(E40,$P$17:$V$23,2,FALSE),"")) | L40: =IFERROR(IF(E40="Transport","N/A",J40*VLOOKUP(E40,$P$17:$V$23,3,FALSE)),"") | M40: =IFERROR(IF(J40="N/A","N/A",H40/L40),"") | P40: =IFERROR(IF(E40="Transport",N40*T$18/$S$18,$J40*VLOOKUP($E40,$P$17:$V$23,5,FALSE)),"") | Q40: =IFERROR(IF(E40="Transport",N40*U$18/$S$18,$J40*VLOOKUP($E40,$P$17:$V$23,6,FALSE)),"") | R40: =IFERROR(IF(E40="Transport",N40*V$18/$S$18,$J40*VLOOKUP($E40,$P$17:$V$23,7,FALSE)),"") | AF40: For Verification
...

Sheet Results at a Glance
A2: OUR CARBON FOOTPRINT | I2: =IF(Company_Year!C3="","Company",Company_Year!C3) -> Company
C3: =IF(Company_Year!F3="","YEAR",Company_Year!F3) -> 2025 | I3: =IF(Company_Year!C4="","Address",Company_Year!C4) -> Address
A6: OVERALL GREENHOUSE GAS EMISSIONS | I6: RENEWABLE ENERGY CONTRIBUTION | P6: ADDITIONAL BENCHMARK OF CHOICE | T6: RENEWABLE ENERGY CONTRIBUTION
T7: RE | U7: =Company_Year!I7 -> 0
P8: Do you want to add another benchmark factor? | Q8: No | T8: Other | U8: =SUM(Company_Year!Z17:Z18)-U7 -> 0
B9: Emissions from Electricity | D9: =SUM(Company_Year!AA22:AA28) -> 0 | E9: tCO₂eq | M9: #VALUE!
T10: EMISSIONS BY SOURCE
B11: Emissions from Transport | D11: =Company_Year!AA36 -> 0 | E11: tCO₂eq | P11: Enter Factor (ex. Bed, room, ton…) | Q11: Ton | T11: Purchased Electricity | U11: =SUM(Company_Year!AA22:AA25) -> 0
T12: Produced Electricity | U12: =SUM(Company_Year!AA26) -> 0
B13: Emissions from Other Applications | D13: =SUM(Company_Year!AA29:AA35) -> 0 | E13: tCO₂eq | T13: Heating & Process | U13: =SUM(Company_Year!AA29:AA34) -> 0
Q14: =IF(C3="YEAR","Previous Year",$C$3-1) -> 2024 | R14: =IF($C$3="YEAR","Reported Year",$C$3) -> 2025 | T14: Transport | U14: =Company_Year!AA36 -> 0
B15: Total Emissions | D15: =SUM(D9:D14) -> 0 | E15: tCO₂eq | T15: Cooking | U15: =Company_Year!AA35 -> 0
P16: Enter factor values for relevant years | Q16: 0 | R16: 0
T17: EMISSIONS TREND
T18: =Company_Year!N21 -> 2024 | U18: =Company_Year!C15 -> 0
A19: EMISSIONS BY SOURCE | T19: =Company_Year!M21 -> 2025 | U19: =Company_Year!C25 -> 0
B21: #VALUE! | T21: EMISSIONS BENCHMARKING
U22: =Q14 -> 2024 | V22: =R14 -> 2025 | X22: =IF(Q8="yes",U22,"") | Y22: =IF(Q8="yes",V22,"")
T23: per m2 | U23: =1000*Company_Year!N23 -> #VALUE! | V23: =1000*Company_Year!M23 -> #VALUE! | W23: =IF(Q8="Yes","per "&Q11,"") | X23: =IF(Q8="yes",1000*Company_Year!C15/Q16,"") | Y23: =IF(Q8="yes",1000*Company_Year!C25/R16,"")
T24: per Employee | U24: =1000*Company_Year!N25 -> #VALUE! | V24: =1000*Company_Year!M25 -> #VALUE!
T28: MITIGATION IMPACT
I29: ="EMISSION BENCHMARKING "&C3 -> EMISSION BENCHMARKING 2025 | T29: Mitigated | U29: =Company_Year!D25 -> 0 | V29: =U29/U30 -> #DIV/0!
T30: Total | U30: =U29+Company_Year!C25 -> 0 | V30: =U30/U30 -> #DIV/0!
I32: #VALUE! | J32: Energy per kWh | L32: =Company_Year!C26 -> - | M32: kgCO₂eq
T33: GWP VALUES
J34: per m² | L34: =IFERROR(V23,"") | M34: kgCO₂eq | U34: CO₂ | V34: CH₄ | W34: N₂O
T35: X | U35: 0.08 | V35: 0.075 | W35: 0.05
J36: per Employee | L36: =IFERROR(V24,"") | M36: kgCO₂eq | T36: Y | U36: 0.05 | V36: 0.075 | W36: 0.05
T37: GWP | U37: 1 | V37: 28 | W37: 265
J38: per travel km | L38: =IFERROR(Company_Year!M22,"") -> N/A | M38: kgCO₂eq
J40: =IF(Q8="Yes","per "&Q11,"") | L40: =IF(Q8="yes",IF(Y23=0,"",Y23),"") | M40: kgCO₂eq
A42: ="EMISSIONS TREND "&C3&" vs "&IF(C3="Year",C3,C3-1) -> EMISSIONS TREND 2025 vs 2024
B44: #VALUE!
E57: tCO₂eq
A60: MITIGATION IMPACT | I60: GWP VALUES
B62: #VALUE! | M62: IPCC 2014
C63: =IF(ROUNDDOWN($U$29/2.2, 0)<1,"","Through our actions, we saved ")
D65: =IF(ROUNDDOWN($U$29/2.2,0)<1,"",ROUND($U$29,2)) | E65: =IF(ROUNDDOWN($U$29/2.2,0)<1,"","tCO₂eq in "&C3)
C68: =IF(ROUNDDOWN($U$29/2.2,0)<1,"","equivalent to removing ")
D70: =IF(ROUNDDOWN($U$29/2.2, 0)<1,"",ROUNDDOWN($U$29/2.2, 0)) | E70: =IF(ROUNDDOWN($U$29/2.2,0)<1,"",IF(ROUNDDOWN($U$29/2.2,0)>1," cars"," car"))
...
